BEGIN:VCALENDAR
VERSION:2.0
PRODID:-//Pottsville Free Public Library - ECPv6.15.13//NONSGML v1.0//EN
CALSCALE:GREGORIAN
METHOD:PUBLISH
X-WR-CALNAME:Pottsville Free Public Library
X-ORIGINAL-URL:https://www.pottsvillelibrary.org
X-WR-CALDESC:Events for Pottsville Free Public Library
REFRESH-INTERVAL;VALUE=DURATION:PT1H
X-Robots-Tag:noindex
X-PUBLISHED-TTL:PT1H
BEGIN:VTIMEZONE
TZID:UTC
BEGIN:STANDARD
TZOFFSETFROM:+0000
TZOFFSETTO:+0000
TZNAME:UTC
DTSTART:20240101T000000
END:STANDARD
END:VTIMEZONE
BEGIN:VEVENT
DTSTART;TZID=UTC:20250909T173000
DTEND;TZID=UTC:20250909T190000
DTSTAMP:20260424T074912
CREATED:20250626T182643Z
LAST-MODIFIED:20250626T182643Z
UID:3637-1757439000-1757444400@www.pottsvillelibrary.org
SUMMARY:Oregon Trail Pick a Path Adventure Family Night
DESCRIPTION:Join us for a family night featuring a pick a path adventure. Travel around the library overcoming events to arrive at “Oregon”. Family Nights are for all ages (recommended for ages 6+). To register\, or get more information\, email potchild@pottsvillelibrary.org\, call 570-622-8880 ext. 12 or come to the library and talk to us in person.
URL:https://www.pottsvillelibrary.org/event/oregon-trail-pick-a-path-adventure-family-night/
LOCATION:Pottsville Library\, 215 W Market St\, Pottsville\, 17901\, United States
ATTACH;FMTTYPE=image/webp:https://www.pottsvillelibrary.org/wp-content/uploads/2025/06/Oregon-Trail.webp
ORGANIZER;CN="PFPL":MAILTO:potpublib@pottsvillelibrary.org
END:VEVENT
END:VCALENDAR