BEGIN:VCALENDAR
VERSION:2.0
PRODID:-//Pottsville Free Public Library - ECPv6.15.13//NONSGML v1.0//EN
CALSCALE:GREGORIAN
METHOD:PUBLISH
X-WR-CALNAME:Pottsville Free Public Library
X-ORIGINAL-URL:https://www.pottsvillelibrary.org
X-WR-CALDESC:Events for Pottsville Free Public Library
REFRESH-INTERVAL;VALUE=DURATION:PT1H
X-Robots-Tag:noindex
X-PUBLISHED-TTL:PT1H
BEGIN:VTIMEZONE
TZID:UTC
BEGIN:STANDARD
TZOFFSETFROM:+0000
TZOFFSETTO:+0000
TZNAME:UTC
DTSTART:20240101T000000
END:STANDARD
END:VTIMEZONE
BEGIN:VEVENT
DTSTART;TZID=UTC:20250908T163000
DTEND;TZID=UTC:20250908T190000
DTSTAMP:20260424T074814
CREATED:20250712T183954Z
LAST-MODIFIED:20250712T183954Z
UID:3772-1757349000-1757358000@www.pottsvillelibrary.org
SUMMARY:Magic the Gathering Monday
DESCRIPTION:Come join us at the Pottsville Free Public Library for our monthly Magic the Gathering Night on Monday September 8th at 4:30 pm where we will be playing in the commander format. Don’t know very much about Magic the Gathering but want to learn a little more\, come in and we’ll take the time to introduce you to the rules and cards\, which can then be used to play. To register email potchild@pottsvillelibrary.org\, call 570-622-8880 ext. 12 or come and tell us in person. Recommended for ages 11 and up
URL:https://www.pottsvillelibrary.org/event/magic-the-gathering-monday-2/
LOCATION:Library – Basement\, 215 W. Market St.\, Pottsville\, PA\, 17901\, United States
ATTACH;FMTTYPE=image/webp:https://www.pottsvillelibrary.org/wp-content/uploads/2025/07/Fall-Magic-the-Gathering-Nights.webp
ORGANIZER;CN="PFPL":MAILTO:potpublib@pottsvillelibrary.org
END:VEVENT
END:VCALENDAR