BEGIN:VCALENDAR
VERSION:2.0
PRODID:-//Pottsville Free Public Library - ECPv6.15.13//NONSGML v1.0//EN
CALSCALE:GREGORIAN
METHOD:PUBLISH
X-ORIGINAL-URL:https://www.pottsvillelibrary.org
X-WR-CALDESC:Events for Pottsville Free Public Library
REFRESH-INTERVAL;VALUE=DURATION:PT1H
X-Robots-Tag:noindex
X-PUBLISHED-TTL:PT1H
BEGIN:VTIMEZONE
TZID:UTC
BEGIN:STANDARD
TZOFFSETFROM:+0000
TZOFFSETTO:+0000
TZNAME:UTC
DTSTART:20240101T000000
END:STANDARD
END:VTIMEZONE
BEGIN:VEVENT
DTSTART;TZID=UTC:20250816T090000
DTEND;TZID=UTC:20250816T120000
DTSTAMP:20260424T090630
CREATED:20250611T183447Z
LAST-MODIFIED:20250611T183447Z
UID:3596-1755334800-1755345600@www.pottsvillelibrary.org
SUMMARY:Open Arcade
DESCRIPTION:The Pottsville Free Public Library is opening up our arcade-style games like foosball\, billiards and a basketball shoot to everyone one day a week. No quarters required! Join us in the Library’s basement on Saturday mornings from 9 AM-12 PM. All ages and families are welcome (kids 8 and under need to have their parent or guardian with them).
URL:https://www.pottsvillelibrary.org/event/open-arcade-21/
LOCATION:Pottsville Library\, 215 W Market St\, Pottsville\, 17901\, United States
ATTACH;FMTTYPE=image/webp:https://www.pottsvillelibrary.org/wp-content/uploads/2025/06/School-Year-Open-Arcade-Sign.webp
ORGANIZER;CN="PFPL":MAILTO:potpublib@pottsvillelibrary.org
END:VEVENT
BEGIN:VEVENT
DTSTART;TZID=UTC:20250816T110000
DTEND;TZID=UTC:20250816T120000
DTSTAMP:20260424T090630
CREATED:20250514T205555Z
LAST-MODIFIED:20250514T205555Z
UID:3524-1755342000-1755345600@www.pottsvillelibrary.org
SUMMARY:Tell a Joke Day Saturday Story Time
DESCRIPTION:Join us for a Story Time celebrating jokes\, riddles and japes\, with a themed book and craft on Saturday August 16th at 11 am. To register email potchild@pottsvillelibrary.org\, call 570-622-8880 ext. 12 or come to the library an tell us you plan on coming.
URL:https://www.pottsvillelibrary.org/event/tell-a-joke-day-saturday-story-time/
LOCATION:Pottsville Library\, 215 W Market St\, Pottsville\, 17901\, United States
ATTACH;FMTTYPE=image/webp:https://www.pottsvillelibrary.org/wp-content/uploads/2025/05/JokeDay_Saturday_Storytime2025.webp
ORGANIZER;CN="PFPL":MAILTO:potpublib@pottsvillelibrary.org
END:VEVENT
END:VCALENDAR