BEGIN:VCALENDAR
VERSION:2.0
PRODID:-//Pottsville Free Public Library - ECPv6.15.13//NONSGML v1.0//EN
CALSCALE:GREGORIAN
METHOD:PUBLISH
X-ORIGINAL-URL:https://www.pottsvillelibrary.org
X-WR-CALDESC:Events for Pottsville Free Public Library
REFRESH-INTERVAL;VALUE=DURATION:PT1H
X-Robots-Tag:noindex
X-PUBLISHED-TTL:PT1H
BEGIN:VTIMEZONE
TZID:UTC
BEGIN:STANDARD
TZOFFSETFROM:+0000
TZOFFSETTO:+0000
TZNAME:UTC
DTSTART:20240101T000000
END:STANDARD
END:VTIMEZONE
BEGIN:VEVENT
DTSTART;TZID=UTC:20250716T103000
DTEND;TZID=UTC:20250716T120000
DTSTAMP:20260424T103723
CREATED:20250424T220351Z
LAST-MODIFIED:20250424T220351Z
UID:3440-1752661800-1752667200@www.pottsvillelibrary.org
SUMMARY:Kids Summer Reading Club
DESCRIPTION:Join us for the Kids Summer Reading Club for ages 6-12 happening every Wednesday from June 18th until August 6th\, 10:30 am until noon. Different activities and crafts every week on the theme of color our world. To register email potchild@pottsvillelibrary.org\, call 570-622-8880 ext. 12 or come to the library and tell us you plan on coming.
URL:https://www.pottsvillelibrary.org/event/kids-summer-reading-club-5/
LOCATION:Pottsville Library\, 215 W Market St\, Pottsville\, 17901\, United States
ATTACH;FMTTYPE=image/webp:https://www.pottsvillelibrary.org/wp-content/uploads/2025/04/Kids_Summer_Reading_Club_2025_flier.webp
ORGANIZER;CN="PFPL":MAILTO:potpublib@pottsvillelibrary.org
END:VEVENT
END:VCALENDAR