BEGIN:VCALENDAR
VERSION:2.0
PRODID:-//Pottsville Free Public Library - ECPv6.15.13//NONSGML v1.0//EN
CALSCALE:GREGORIAN
METHOD:PUBLISH
X-ORIGINAL-URL:https://www.pottsvillelibrary.org
X-WR-CALDESC:Events for Pottsville Free Public Library
REFRESH-INTERVAL;VALUE=DURATION:PT1H
X-Robots-Tag:noindex
X-PUBLISHED-TTL:PT1H
BEGIN:VTIMEZONE
TZID:UTC
BEGIN:STANDARD
TZOFFSETFROM:+0000
TZOFFSETTO:+0000
TZNAME:UTC
DTSTART:20240101T000000
END:STANDARD
END:VTIMEZONE
BEGIN:VEVENT
DTSTART;TZID=UTC:20250715T173000
DTEND;TZID=UTC:20250715T190000
DTSTAMP:20260424T104240
CREATED:20250424T214653Z
LAST-MODIFIED:20250424T215019Z
UID:3415-1752600600-1752606000@www.pottsvillelibrary.org
SUMMARY:"Hemlock" Hannah and the Colors of Wildlife\, Plants\, and Mushrooms Galore
DESCRIPTION:Come to the Pottsville Free Public Library as we are joined by “Hemlock” Hannah from the Schuylkill Conservation District for a program celebrating color in nature. To register please email potchild@pottsvillelibrary.org\, call 570-622-8880 ext. 12 or come to the library and tell us you plan on coming.
URL:https://www.pottsvillelibrary.org/event/hemlock-hannah-and-the-colors-of-wildlife-plants-and-mushrooms-galore/
LOCATION:Pottsville Library\, 215 W Market St\, Pottsville\, 17901\, United States
ATTACH;FMTTYPE=image/webp:https://www.pottsvillelibrary.org/wp-content/uploads/2025/04/Hemlock-Hannah.webp
ORGANIZER;CN="PFPL":MAILTO:potpublib@pottsvillelibrary.org
END:VEVENT
END:VCALENDAR