BEGIN:VCALENDAR
VERSION:2.0
PRODID:-//Pottsville Free Public Library - ECPv6.15.13//NONSGML v1.0//EN
CALSCALE:GREGORIAN
METHOD:PUBLISH
X-WR-CALNAME:Pottsville Free Public Library
X-ORIGINAL-URL:https://www.pottsvillelibrary.org
X-WR-CALDESC:Events for Pottsville Free Public Library
REFRESH-INTERVAL;VALUE=DURATION:PT1H
X-Robots-Tag:noindex
X-PUBLISHED-TTL:PT1H
BEGIN:VTIMEZONE
TZID:UTC
BEGIN:STANDARD
TZOFFSETFROM:+0000
TZOFFSETTO:+0000
TZNAME:UTC
DTSTART:20240101T000000
END:STANDARD
END:VTIMEZONE
BEGIN:VEVENT
DTSTART;TZID=UTC:20250710T103000
DTEND;TZID=UTC:20250710T120000
DTSTAMP:20260424T103546
CREATED:20250424T222155Z
LAST-MODIFIED:20250424T222155Z
UID:3462-1752143400-1752148800@www.pottsvillelibrary.org
SUMMARY:Teen Summer Reading Crew
DESCRIPTION:Join us for the Teens Summer Reading Crew for ages 12-18 happening every Thursday from June 19th until August 7th\, 10:30 am until noon. Different activities and crafts every week on the theme of color our world. To register email potchild@pottsvillelibrary.org\, call 570-622-8880 ext. 12 or come to the library and tell us you plan on coming.
URL:https://www.pottsvillelibrary.org/event/teen-summer-reading-crew-4/
LOCATION:Pottsville Library\, 215 W Market St\, Pottsville\, 17901\, United States
ATTACH;FMTTYPE=image/webp:https://www.pottsvillelibrary.org/wp-content/uploads/2025/04/Teen_Summer_Reading_Crew_2025_flier.webp
ORGANIZER;CN="PFPL":MAILTO:potpublib@pottsvillelibrary.org
END:VEVENT
BEGIN:VEVENT
DTSTART;TZID=UTC:20250710T130000
DTEND;TZID=UTC:20250710T140000
DTSTAMP:20260424T103546
CREATED:20250630T202437Z
LAST-MODIFIED:20250630T202437Z
UID:3649-1752152400-1752156000@www.pottsvillelibrary.org
SUMMARY:Family Summer Safety Program
DESCRIPTION:Come down to the Pottsville Free Public Library for a program teaching about Summer Safety from the Schuylkill County Neonatal Abstinence Syndrome Prevention & Support Services Program. Parents and guardians will receive life saving tips about sun protection\, water safety first aid and more while children take part in a summer craft. To register email potchild@pottsvillelibrary.org\, call 570-622-8880 ext. 12 or come to the library and talk to us.
URL:https://www.pottsvillelibrary.org/event/family-summer-safety-program/
LOCATION:Pottsville Library\, 215 W Market St\, Pottsville\, 17901\, United States
ATTACH;FMTTYPE=image/webp:https://www.pottsvillelibrary.org/wp-content/uploads/2025/06/HRSA-Summer-Safety-scaled.webp
END:VEVENT
END:VCALENDAR