BEGIN:VCALENDAR
VERSION:2.0
PRODID:-//Pottsville Free Public Library - ECPv6.15.13//NONSGML v1.0//EN
CALSCALE:GREGORIAN
METHOD:PUBLISH
X-WR-CALNAME:Pottsville Free Public Library
X-ORIGINAL-URL:https://www.pottsvillelibrary.org
X-WR-CALDESC:Events for Pottsville Free Public Library
REFRESH-INTERVAL;VALUE=DURATION:PT1H
X-Robots-Tag:noindex
X-PUBLISHED-TTL:PT1H
BEGIN:VTIMEZONE
TZID:UTC
BEGIN:STANDARD
TZOFFSETFROM:+0000
TZOFFSETTO:+0000
TZNAME:UTC
DTSTART:20240101T000000
END:STANDARD
END:VTIMEZONE
BEGIN:VEVENT
DTSTART;TZID=UTC:20250701T173000
DTEND;TZID=UTC:20250701T190000
DTSTAMP:20260424T103547
CREATED:20250423T180115Z
LAST-MODIFIED:20250423T180115Z
UID:3386-1751391000-1751396400@www.pottsvillelibrary.org
SUMMARY:Live Wildlife Night with Red Creek Wildlife Center
DESCRIPTION:Come to the Pottsville Free Public Library on Tuesday July 1st at 5:30 pm to see presentation from the Red Creek Wildlife Center featuring live wildlife. To register please email potchild@pottsvillelibrary.org\, call 570-622-8880 ext. 12 or come to the library in person and tell us your coming.
URL:https://www.pottsvillelibrary.org/event/live-wildlife-night-with-red-creek-wildlife-center-3/
LOCATION:Pottsville Library\, 215 W Market St\, Pottsville\, 17901\, United States
ATTACH;FMTTYPE=image/webp:https://www.pottsvillelibrary.org/wp-content/uploads/2025/04/Red-Creek.webp
ORGANIZER;CN="PFPL":MAILTO:potpublib@pottsvillelibrary.org
END:VEVENT
END:VCALENDAR