BEGIN:VCALENDAR
VERSION:2.0
PRODID:-//Pottsville Free Public Library - ECPv6.15.13//NONSGML v1.0//EN
CALSCALE:GREGORIAN
METHOD:PUBLISH
X-WR-CALNAME:Pottsville Free Public Library
X-ORIGINAL-URL:https://www.pottsvillelibrary.org
X-WR-CALDESC:Events for Pottsville Free Public Library
REFRESH-INTERVAL;VALUE=DURATION:PT1H
X-Robots-Tag:noindex
X-PUBLISHED-TTL:PT1H
BEGIN:VTIMEZONE
TZID:UTC
BEGIN:STANDARD
TZOFFSETFROM:+0000
TZOFFSETTO:+0000
TZNAME:UTC
DTSTART:20240101T000000
END:STANDARD
END:VTIMEZONE
BEGIN:VEVENT
DTSTART;TZID=UTC:20250626T103000
DTEND;TZID=UTC:20250626T120000
DTSTAMP:20260424T135458
CREATED:20250424T221845Z
LAST-MODIFIED:20250424T221845Z
UID:3456-1750933800-1750939200@www.pottsvillelibrary.org
SUMMARY:Teen Summer Reading Crew
DESCRIPTION:Join us for the Teens Summer Reading Crew for ages 12-18 happening every Thursday from June 19th until August 7th\, 10:30 am until noon. Different activities and crafts every week on the theme of color our world. To register email potchild@pottsvillelibrary.org\, call 570-622-8880 ext. 12 or come to the library and tell us you plan on coming.
URL:https://www.pottsvillelibrary.org/event/teen-summer-reading-crew-2/
LOCATION:Pottsville Library\, 215 W Market St\, Pottsville\, 17901\, United States
ATTACH;FMTTYPE=image/webp:https://www.pottsvillelibrary.org/wp-content/uploads/2025/04/Teen_Summer_Reading_Crew_2025_flier.webp
ORGANIZER;CN="PFPL":MAILTO:potpublib@pottsvillelibrary.org
END:VEVENT
BEGIN:VEVENT
DTSTART;TZID=UTC:20250626T173000
DTEND;TZID=UTC:20250626T190000
DTSTAMP:20260424T135458
CREATED:20241203T195156Z
LAST-MODIFIED:20241203T195156Z
UID:2737-1750959000-1750964400@www.pottsvillelibrary.org
SUMMARY:Pageturners Book Club
DESCRIPTION:If you are interested in great books and great conversation–our book club is for you! All are welcome at the Pageturners monthly meeting held the 4th Thursday of each month at 5:30 on the 2nd floor of the Library.
URL:https://www.pottsvillelibrary.org/event/pageturners-book-club-9/
LOCATION:Pottsville Library\, 215 W Market St\, Pottsville\, 17901\, United States
ATTACH;FMTTYPE=image/jpeg:https://www.pottsvillelibrary.org/wp-content/uploads/2024/12/Pageturners-Logo-scaled.jpeg
ORGANIZER;CN="PFPL":MAILTO:potpublib@pottsvillelibrary.org
END:VEVENT
END:VCALENDAR