BEGIN:VCALENDAR
VERSION:2.0
PRODID:-//Pottsville Free Public Library - ECPv6.15.13//NONSGML v1.0//EN
CALSCALE:GREGORIAN
METHOD:PUBLISH
X-ORIGINAL-URL:https://www.pottsvillelibrary.org
X-WR-CALDESC:Events for Pottsville Free Public Library
REFRESH-INTERVAL;VALUE=DURATION:PT1H
X-Robots-Tag:noindex
X-PUBLISHED-TTL:PT1H
BEGIN:VTIMEZONE
TZID:UTC
BEGIN:STANDARD
TZOFFSETFROM:+0000
TZOFFSETTO:+0000
TZNAME:UTC
DTSTART:20240101T000000
END:STANDARD
END:VTIMEZONE
BEGIN:VEVENT
DTSTART;TZID=UTC:20250519T150000
DTEND;TZID=UTC:20250519T163000
DTSTAMP:20260424T172659
CREATED:20250328T124756Z
LAST-MODIFIED:20250328T124818Z
UID:3286-1747666800-1747672200@www.pottsvillelibrary.org
SUMMARY:Art After School: Crystalline Painting
DESCRIPTION:Join us from the week of May 19th to the 23rd for some Epsom salt water color painting to be displayed in the local artist showcase the following week. Come to the Children’s area any time between 3 and 4:30 pm\, we’ll provide the materials\, all you need to bring is your imagination. Recommended for ages 3-15.
URL:https://www.pottsvillelibrary.org/event/3286/
LOCATION:Pottsville Library\, 215 W Market St\, Pottsville\, 17901\, United States
ATTACH;FMTTYPE=image/webp:https://www.pottsvillelibrary.org/wp-content/uploads/2025/03/Childrens-art-showcase.webp
ORGANIZER;CN="PFPL":MAILTO:potpublib@pottsvillelibrary.org
END:VEVENT
BEGIN:VEVENT
DTSTART;TZID=UTC:20250519T170000
DTEND;TZID=UTC:20250519T190000
DTSTAMP:20260424T172659
CREATED:20250409T230510Z
LAST-MODIFIED:20250409T230510Z
UID:3314-1747674000-1747681200@www.pottsvillelibrary.org
SUMMARY:Magic the Gathering Night
DESCRIPTION:Join us for a night of playing Magic the Gathering in the Commander format. Registration is required so please email potchild@pottsvillelibrary.org\, call (570) 622-8880 ext. 12 or come to the library in person to register. Please also include experience with Magic the Gathering so that we can attempt to place people of a similar skill level at the same table. Recommended for ages 12 and up (though this is only a recommendation). Cards will be available to those who are new to the game.
URL:https://www.pottsvillelibrary.org/event/magic-the-gathering-night/
LOCATION:Pottsville Library\, 215 W Market St\, Pottsville\, 17901\, United States
ATTACH;FMTTYPE=image/webp:https://www.pottsvillelibrary.org/wp-content/uploads/2025/04/Magic_The_Gathering_Poster.webp
ORGANIZER;CN="PFPL":MAILTO:potpublib@pottsvillelibrary.org
END:VEVENT
END:VCALENDAR