BEGIN:VCALENDAR
VERSION:2.0
PRODID:-//Pottsville Free Public Library - ECPv6.15.13//NONSGML v1.0//EN
CALSCALE:GREGORIAN
METHOD:PUBLISH
X-WR-CALNAME:Pottsville Free Public Library
X-ORIGINAL-URL:https://www.pottsvillelibrary.org
X-WR-CALDESC:Events for Pottsville Free Public Library
REFRESH-INTERVAL;VALUE=DURATION:PT1H
X-Robots-Tag:noindex
X-PUBLISHED-TTL:PT1H
BEGIN:VTIMEZONE
TZID:UTC
BEGIN:STANDARD
TZOFFSETFROM:+0000
TZOFFSETTO:+0000
TZNAME:UTC
DTSTART:20240101T000000
END:STANDARD
END:VTIMEZONE
BEGIN:VEVENT
DTSTART;TZID=UTC:20250512T103000
DTEND;TZID=UTC:20250512T113000
DTSTAMP:20260424T154504
CREATED:20241210T182405Z
LAST-MODIFIED:20241210T182405Z
UID:2842-1747045800-1747049400@www.pottsvillelibrary.org
SUMMARY:Winter/Spring Storytime
DESCRIPTION:The Monday session of our Winter/Spring story time\, meeting Mondays at 10:30 am from February 10th to May 12th. Join us for a story\, a craft and songs. This session will be geared to those ages 3 through 5 but older and younger siblings are welcome.
URL:https://www.pottsvillelibrary.org/event/winter-spring-storytime-14/
LOCATION:Pottsville Library\, 215 W Market St\, Pottsville\, 17901\, United States
ATTACH;FMTTYPE=image/jpeg:https://www.pottsvillelibrary.org/wp-content/uploads/2024/12/Winter_Spring_Storytime.jpg
ORGANIZER;CN="PFPL":MAILTO:potpublib@pottsvillelibrary.org
END:VEVENT
END:VCALENDAR