BEGIN:VCALENDAR
VERSION:2.0
PRODID:-//Pottsville Free Public Library - ECPv6.15.13//NONSGML v1.0//EN
CALSCALE:GREGORIAN
METHOD:PUBLISH
X-ORIGINAL-URL:https://www.pottsvillelibrary.org
X-WR-CALDESC:Events for Pottsville Free Public Library
REFRESH-INTERVAL;VALUE=DURATION:PT1H
X-Robots-Tag:noindex
X-PUBLISHED-TTL:PT1H
BEGIN:VTIMEZONE
TZID:UTC
BEGIN:STANDARD
TZOFFSETFROM:+0000
TZOFFSETTO:+0000
TZNAME:UTC
DTSTART:20240101T000000
END:STANDARD
END:VTIMEZONE
BEGIN:VEVENT
DTSTART;TZID=UTC:20250503T083000
DTEND;TZID=UTC:20250503T170000
DTSTAMP:20260424T172655
CREATED:20250327T224934Z
LAST-MODIFIED:20250327T224934Z
UID:3268-1746261000-1746291600@www.pottsvillelibrary.org
SUMMARY:2025 Library Scavenger Hunt
DESCRIPTION:Did you know that library’s in Pennsylvania are divided into districts? Come on down to your local library within the Pottsville District from April 7th until May 9th to join the scavenger hunt and find each library’s copy of the 2025 PA One Book: “Arlo Draws An Octopus”. Don’t have time to make it to every library within the month\, that’s okay\, make it to at least five and enter the drawing for a Dunkin’ gift card. Come to the desk and say hi when you are here.
URL:https://www.pottsvillelibrary.org/event/2025-library-scavenger-hunt-24/
LOCATION:Pottsville Library\, 215 W Market St\, Pottsville\, 17901\, United States
ATTACH;FMTTYPE=image/webp:https://www.pottsvillelibrary.org/wp-content/uploads/2025/03/Scavenger-Hunt-Flyer.webp
ORGANIZER;CN="PFPL":MAILTO:potpublib@pottsvillelibrary.org
END:VEVENT
BEGIN:VEVENT
DTSTART;TZID=UTC:20250503T100000
DTEND;TZID=UTC:20250503T160000
DTSTAMP:20260424T172655
CREATED:20250218T192935Z
LAST-MODIFIED:20250218T192935Z
UID:3150-1746266400-1746288000@www.pottsvillelibrary.org
SUMMARY:Free Comic Book Day
DESCRIPTION:Saturday May 3rd is Free Comic Book Day 2025. Come to Pottsville Free Public Library anytime between 10 am and 4 pm to join in on several crafts and activities as well as a variety of comic books. Recommended for ages 5-18. Please email potchild@pottsvillelibrary.org\, call 570-622-8880 ext. 12\, or come to the youth services desk and talk to us to register with names & age of each person attending.
URL:https://www.pottsvillelibrary.org/event/free-comic-book-day/
LOCATION:Pottsville Library\, 215 W Market St\, Pottsville\, 17901\, United States
ATTACH;FMTTYPE=image/webp:https://www.pottsvillelibrary.org/wp-content/uploads/2025/02/Free_Comic_Book_Day2025_Poster.webp
ORGANIZER;CN="PFPL":MAILTO:potpublib@pottsvillelibrary.org
END:VEVENT
BEGIN:VEVENT
DTSTART;TZID=UTC:20250503T110000
DTEND;TZID=UTC:20250503T150000
DTSTAMP:20260424T172655
CREATED:20241012T202007Z
LAST-MODIFIED:20241012T202007Z
UID:2536-1746270000-1746284400@www.pottsvillelibrary.org
SUMMARY:May Day Metaphysical Market
DESCRIPTION:Celebrate Spring at our May Day Metaphysical Market! Our historic building will be filled with magical vendors\, local authors\, used book sale & a delicious lunch spot. The market will be held indoors at the Pottsville Library on Saturday\, May 3rd\, from 11am to 3pm.  To register as a vendor please email ginab@pottsvillelibrary.org for information. Vendor spots are $20 each.
URL:https://www.pottsvillelibrary.org/event/may-day-metaphysical-market-3/
LOCATION:Pottsville Library\, 215 W Market St\, Pottsville\, 17901\, United States
ATTACH;FMTTYPE=image/jpeg:https://www.pottsvillelibrary.org/wp-content/uploads/2024/10/May-Day-Flyer.jpg
ORGANIZER;CN="PFPL":MAILTO:potpublib@pottsvillelibrary.org
END:VEVENT
BEGIN:VEVENT
DTSTART;TZID=UTC:20250503T110000
DTEND;TZID=UTC:20250503T150000
DTSTAMP:20260424T172655
CREATED:20250429T160040Z
LAST-MODIFIED:20250429T160040Z
UID:3485-1746270000-1746284400@www.pottsvillelibrary.org
SUMMARY:Used Book Sale
DESCRIPTION:Join us for a special Saturday Used Book Sale hosted by the Friends of the Pottsville Library. Book sale will run from 11-3.
URL:https://www.pottsvillelibrary.org/event/used-book-sale-26/
LOCATION:Library – Basement\, 215 W. Market St.\, Pottsville\, PA\, 17901\, United States
ATTACH;FMTTYPE=image/png:https://www.pottsvillelibrary.org/wp-content/uploads/2024/12/Book-Sale.png
ORGANIZER;CN="PFPL":MAILTO:potpublib@pottsvillelibrary.org
END:VEVENT
END:VCALENDAR