BEGIN:VCALENDAR
VERSION:2.0
PRODID:-//Pottsville Free Public Library - ECPv6.15.13//NONSGML v1.0//EN
CALSCALE:GREGORIAN
METHOD:PUBLISH
X-WR-CALNAME:Pottsville Free Public Library
X-ORIGINAL-URL:https://www.pottsvillelibrary.org
X-WR-CALDESC:Events for Pottsville Free Public Library
REFRESH-INTERVAL;VALUE=DURATION:PT1H
X-Robots-Tag:noindex
X-PUBLISHED-TTL:PT1H
BEGIN:VTIMEZONE
TZID:UTC
BEGIN:STANDARD
TZOFFSETFROM:+0000
TZOFFSETTO:+0000
TZNAME:UTC
DTSTART:20240101T000000
END:STANDARD
END:VTIMEZONE
BEGIN:VEVENT
DTSTART;TZID=UTC:20250430T083000
DTEND;TZID=UTC:20250430T193000
DTSTAMP:20260424T154501
CREATED:20250327T224352Z
LAST-MODIFIED:20250327T224352Z
UID:3259-1746001800-1746041400@www.pottsvillelibrary.org
SUMMARY:2025 Library Scavenger Hunt
DESCRIPTION:Did you know that library’s in Pennsylvania are divided into districts? Come on down to your local library within the Pottsville District from April 7th until May 9th to join the scavenger hunt and find each library’s copy of the 2025 PA One Book: “Arlo Draws An Octopus”. Don’t have time to make it to every library within the month\, that’s okay\, make it to at least five and enter the drawing for a Dunkin’ gift card. Come to the desk and say hi when you are here.
URL:https://www.pottsvillelibrary.org/event/2025-library-scavenger-hunt-21/
LOCATION:Pottsville Library\, 215 W Market St\, Pottsville\, 17901\, United States
ATTACH;FMTTYPE=image/webp:https://www.pottsvillelibrary.org/wp-content/uploads/2025/03/Scavenger-Hunt-Flyer.webp
ORGANIZER;CN="PFPL":MAILTO:potpublib@pottsvillelibrary.org
END:VEVENT
BEGIN:VEVENT
DTSTART;TZID=UTC:20250430T150000
DTEND;TZID=UTC:20250430T163000
DTSTAMP:20260424T154501
CREATED:20250206T230401Z
LAST-MODIFIED:20250206T230401Z
UID:3066-1746025200-1746030600@www.pottsvillelibrary.org
SUMMARY:Tinkering Time
DESCRIPTION:Come join us on Wednesdays starting at 3 p.m. for a variety of activities for ages of 6-12 in the activities room at the Pottsville Free Public Library.
URL:https://www.pottsvillelibrary.org/event/tinkering-time-13/
LOCATION:Pottsville Library\, 215 W Market St\, Pottsville\, 17901\, United States
ATTACH;FMTTYPE=image/webp:https://www.pottsvillelibrary.org/wp-content/uploads/2025/02/TinkeringTime2025.webp
ORGANIZER;CN="PFPL":MAILTO:potpublib@pottsvillelibrary.org
END:VEVENT
BEGIN:VEVENT
DTSTART;TZID=UTC:20250430T170000
DTEND;TZID=UTC:20250430T180000
DTSTAMP:20260424T154501
CREATED:20241209T211240Z
LAST-MODIFIED:20241209T211240Z
UID:2800-1746032400-1746036000@www.pottsvillelibrary.org
SUMMARY:Girls Who Code
DESCRIPTION:Join us for several sessions of Girls Who Code. recommended for ages 7-13. Learn about coding and several different coding languages as well as each session having its own coding challenge. Each session will be its own thing\, make it to as many (or as few) as you can. While called Girls who Code sessions are not just for girls\, any aspiring young coder may participate. Email potchild@pottsvillelibrary.org\, call (570) 622-8880 ext. 12 or come to the Youth Services Desk to learn more or register.
URL:https://www.pottsvillelibrary.org/event/girls-who-code-10/
LOCATION:Pottsville Library\, 215 W Market St\, Pottsville\, 17901\, United States
ATTACH;FMTTYPE=image/jpeg:https://www.pottsvillelibrary.org/wp-content/uploads/2024/12/GWC.jpg
ORGANIZER;CN="PFPL":MAILTO:potpublib@pottsvillelibrary.org
END:VEVENT
BEGIN:VEVENT
DTSTART;TZID=UTC:20250430T170000
DTEND;TZID=UTC:20250430T190000
DTSTAMP:20260424T154501
CREATED:20250130T165859Z
LAST-MODIFIED:20250130T165859Z
UID:3014-1746032400-1746039600@www.pottsvillelibrary.org
SUMMARY:Sugar Rush Puzzle Race
DESCRIPTION:Do you love doing jigsaw puzzles? Get together a team of up to 4 people to compete in the Sugar Rush Puzzle Race at the Pottsville Free Public Library on Wednesday\, April 30th! Up to six teams will try to complete the same 500-piece puzzle in two hours or less. A prize will be awarded to the first team to complete the puzzle\, or the team that has the fewest pieces left after the allotted time. Contact the Circulation Desk by April 16th to sign up\, either by coming in to the Library or calling 570-622-8880 x10. There is a $5 fee per team to take part.
URL:https://www.pottsvillelibrary.org/event/sugar-rush-puzzle-race/
LOCATION:Pottsville Library\, 215 W Market St\, Pottsville\, 17901\, United States
ATTACH;FMTTYPE=image/jpeg:https://www.pottsvillelibrary.org/wp-content/uploads/2025/01/Sugar-Rush-Puzzle-Race-Flyer.jpg
ORGANIZER;CN="PFPL":MAILTO:potpublib@pottsvillelibrary.org
END:VEVENT
END:VCALENDAR