BEGIN:VCALENDAR
VERSION:2.0
PRODID:-//Pottsville Free Public Library - ECPv6.15.13//NONSGML v1.0//EN
CALSCALE:GREGORIAN
METHOD:PUBLISH
X-WR-CALNAME:Pottsville Free Public Library
X-ORIGINAL-URL:https://www.pottsvillelibrary.org
X-WR-CALDESC:Events for Pottsville Free Public Library
REFRESH-INTERVAL;VALUE=DURATION:PT1H
X-Robots-Tag:noindex
X-PUBLISHED-TTL:PT1H
BEGIN:VTIMEZONE
TZID:UTC
BEGIN:STANDARD
TZOFFSETFROM:+0000
TZOFFSETTO:+0000
TZNAME:UTC
DTSTART:20240101T000000
END:STANDARD
END:VTIMEZONE
BEGIN:VEVENT
DTSTART;TZID=UTC:20250417T083000
DTEND;TZID=UTC:20250417T193000
DTSTAMP:20260424T204457
CREATED:20250327T220800Z
LAST-MODIFIED:20250327T220800Z
UID:3227-1744878600-1744918200@www.pottsvillelibrary.org
SUMMARY:2025 Library Scavenger Hunt
DESCRIPTION:Did you know that library’s in Pennsylvania are divided into districts? Come on down to your local library within the Pottsville District from April 7th until May 9th to join the scavenger hunt and find each library’s copy of the 2025 PA One Book: “Arlo Draws An Octopus”. Don’t have time to make it to every library within the month\, that’s okay\, make it to at least five and enter the drawing for a Dunkin’ gift card. Come to the desk and say hi when you are here.
URL:https://www.pottsvillelibrary.org/event/2025-library-scavenger-hunt-10/
LOCATION:Pottsville Library\, 215 W Market St\, Pottsville\, 17901\, United States
ATTACH;FMTTYPE=image/webp:https://www.pottsvillelibrary.org/wp-content/uploads/2025/03/Scavenger-Hunt-Flyer.webp
ORGANIZER;CN="PFPL":MAILTO:potpublib@pottsvillelibrary.org
END:VEVENT
BEGIN:VEVENT
DTSTART;TZID=UTC:20250417T113000
DTEND;TZID=UTC:20250417T120000
DTSTAMP:20260424T204457
CREATED:20241210T185650Z
LAST-MODIFIED:20241210T185650Z
UID:2875-1744889400-1744891200@www.pottsvillelibrary.org
SUMMARY:Winter/Spring Storytime
DESCRIPTION:The Thursday session of our Winter/Spring story time\, meeting Thursdays at 11:30 am from February 13th until May 15th. Join us for rhymes\, songs and simple stories. This session will be geared to children 12-36 months old but older and younger siblings are welcome.
URL:https://www.pottsvillelibrary.org/event/winter-spring-storytime-24/
LOCATION:Pottsville Library\, 215 W Market St\, Pottsville\, 17901\, United States
ATTACH;FMTTYPE=image/jpeg:https://www.pottsvillelibrary.org/wp-content/uploads/2024/12/Winter_Spring_Storytime.jpg
ORGANIZER;CN="PFPL":MAILTO:potpublib@pottsvillelibrary.org
END:VEVENT
BEGIN:VEVENT
DTSTART;TZID=UTC:20250417T180000
DTEND;TZID=UTC:20250417T190000
DTSTAMP:20260424T204457
CREATED:20241210T191134Z
LAST-MODIFIED:20241210T191134Z
UID:2892-1744912800-1744916400@www.pottsvillelibrary.org
SUMMARY:Teen Advisory Board
DESCRIPTION:Hang out and have a say in what books\, DVDs\, games and programs the Pottsville Free Public Library offers to teens. For ages 12-18. Registration is required for this program.
URL:https://www.pottsvillelibrary.org/event/teen-advisory-board-4/
LOCATION:Pottsville Library\, 215 W Market St\, Pottsville\, 17901\, United States
ATTACH;FMTTYPE=image/jpeg:https://www.pottsvillelibrary.org/wp-content/uploads/2024/12/TAB.jpg
ORGANIZER;CN="PFPL":MAILTO:potpublib@pottsvillelibrary.org
END:VEVENT
END:VCALENDAR