BEGIN:VCALENDAR
VERSION:2.0
PRODID:-//Pottsville Free Public Library - ECPv6.15.13//NONSGML v1.0//EN
CALSCALE:GREGORIAN
METHOD:PUBLISH
X-ORIGINAL-URL:https://www.pottsvillelibrary.org
X-WR-CALDESC:Events for Pottsville Free Public Library
REFRESH-INTERVAL;VALUE=DURATION:PT1H
X-Robots-Tag:noindex
X-PUBLISHED-TTL:PT1H
BEGIN:VTIMEZONE
TZID:UTC
BEGIN:STANDARD
TZOFFSETFROM:+0000
TZOFFSETTO:+0000
TZNAME:UTC
DTSTART:20240101T000000
END:STANDARD
END:VTIMEZONE
BEGIN:VEVENT
DTSTART;TZID=UTC:20250303T103000
DTEND;TZID=UTC:20250303T113000
DTSTAMP:20260424T221333
CREATED:20241210T181141Z
LAST-MODIFIED:20241210T181141Z
UID:2812-1740997800-1741001400@www.pottsvillelibrary.org
SUMMARY:Winter/Spring Storytime
DESCRIPTION:The Monday session of our Winter/Spring story time\, meeting Mondays at 10:30 am from February 10th to May 12th. Join us for a story\, a craft and songs. This session will be geared to those ages 3 through 5 but older and younger siblings are welcome.
URL:https://www.pottsvillelibrary.org/event/winter-spring-storytime-4/
LOCATION:Pottsville Library\, 215 W Market St\, Pottsville\, 17901\, United States
ATTACH;FMTTYPE=image/jpeg:https://www.pottsvillelibrary.org/wp-content/uploads/2024/12/Winter_Spring_Storytime.jpg
ORGANIZER;CN="PFPL":MAILTO:potpublib@pottsvillelibrary.org
END:VEVENT
BEGIN:VEVENT
DTSTART;TZID=UTC:20250303T120000
DTEND;TZID=UTC:20250303T140000
DTSTAMP:20260424T221333
CREATED:20241202T215037Z
LAST-MODIFIED:20241202T215037Z
UID:2692-1741003200-1741010400@www.pottsvillelibrary.org
SUMMARY:Used Book Sale
DESCRIPTION:Visit our monthly used book sale in the basement of the Library from 12-2 on on the 1st Monday of each month. Thank you to the Friends of the Pottsville Free Public Library for hosting our used book sales!
URL:https://www.pottsvillelibrary.org/event/used-book-sale-16/
LOCATION:Library – Basement\, 215 W. Market St.\, Pottsville\, PA\, 17901\, United States
ATTACH;FMTTYPE=image/png:https://www.pottsvillelibrary.org/wp-content/uploads/2023/11/Book_Sale_Website_Banner.png
ORGANIZER;CN="PFPL":MAILTO:potpublib@pottsvillelibrary.org
END:VEVENT
END:VCALENDAR