BEGIN:VCALENDAR
VERSION:2.0
PRODID:-//Pottsville Free Public Library - ECPv6.15.13//NONSGML v1.0//EN
CALSCALE:GREGORIAN
METHOD:PUBLISH
X-WR-CALNAME:Pottsville Free Public Library
X-ORIGINAL-URL:https://www.pottsvillelibrary.org
X-WR-CALDESC:Events for Pottsville Free Public Library
REFRESH-INTERVAL;VALUE=DURATION:PT1H
X-Robots-Tag:noindex
X-PUBLISHED-TTL:PT1H
BEGIN:VTIMEZONE
TZID:UTC
BEGIN:STANDARD
TZOFFSETFROM:+0000
TZOFFSETTO:+0000
TZNAME:UTC
DTSTART:20240101T000000
END:STANDARD
END:VTIMEZONE
BEGIN:VEVENT
DTSTART;TZID=UTC:20250228T180000
DTEND;TZID=UTC:20250228T210000
DTSTAMP:20260424T221239
CREATED:20250109T135041Z
LAST-MODIFIED:20250109T135041Z
UID:2942-1740765600-1740776400@www.pottsvillelibrary.org
SUMMARY:Putting Fore Pottsville Library: Adult Mini Golf
DESCRIPTION:Join us for our 6th annual Putting Fore Pottsville Library! Play 18 holes of mini golf through the Pottsville Library building & enjoy food & adult beverages throughout the night. Event will take place Friday\, February 28th from 6 to 9PM. Adults only\, MUST BE 21 to enter. $35.00 ticket includes 18 holes of golf\, food and beverages.
URL:https://www.pottsvillelibrary.org/event/putting-fore-pottsville-library-adult-mini-golf/
LOCATION:Pottsville Library\, 215 W Market St\, Pottsville\, 17901\, United States
ATTACH;FMTTYPE=image/jpeg:https://www.pottsvillelibrary.org/wp-content/uploads/2025/01/Mini-Golf-2025.jpg
ORGANIZER;CN="PFPL":MAILTO:potpublib@pottsvillelibrary.org
END:VEVENT
END:VCALENDAR