BEGIN:VCALENDAR
VERSION:2.0
PRODID:-//Pottsville Free Public Library - ECPv6.15.13//NONSGML v1.0//EN
CALSCALE:GREGORIAN
METHOD:PUBLISH
X-ORIGINAL-URL:https://www.pottsvillelibrary.org
X-WR-CALDESC:Events for Pottsville Free Public Library
REFRESH-INTERVAL;VALUE=DURATION:PT1H
X-Robots-Tag:noindex
X-PUBLISHED-TTL:PT1H
BEGIN:VTIMEZONE
TZID:UTC
BEGIN:STANDARD
TZOFFSETFROM:+0000
TZOFFSETTO:+0000
TZNAME:UTC
DTSTART:20240101T000000
END:STANDARD
END:VTIMEZONE
BEGIN:VEVENT
DTSTART;TZID=UTC:20250218T173000
DTEND;TZID=UTC:20250218T193000
DTSTAMP:20260424T221250
CREATED:20241113T140637Z
LAST-MODIFIED:20241113T140637Z
UID:2579-1739899800-1739907000@www.pottsvillelibrary.org
SUMMARY:Golden Girls Bingo
DESCRIPTION:Grab “the girls” to play 10 rounds of Golden Girls themed bingo! Instead of numbers\, you’ll be matching things like shady pines\, Sophia’s purse & Stan’s traffic cone! Prizes will be awarded for each game. Light refreshments are included & this event is BYOB. Bingo will start at 5:30 PM on Tuesday\, February 18th in the Library basement. $15 to play.
URL:https://www.pottsvillelibrary.org/event/golden-girls-bingo/
LOCATION:Pottsville Library\, 215 W Market St\, Pottsville\, 17901\, United States
ATTACH;FMTTYPE=image/jpeg:https://www.pottsvillelibrary.org/wp-content/uploads/2024/11/Golden-Girls-Round-2.jpg
ORGANIZER;CN="PFPL":MAILTO:potpublib@pottsvillelibrary.org
END:VEVENT
END:VCALENDAR