BEGIN:VCALENDAR
VERSION:2.0
PRODID:-//Pottsville Free Public Library - ECPv6.15.13//NONSGML v1.0//EN
CALSCALE:GREGORIAN
METHOD:PUBLISH
X-ORIGINAL-URL:https://www.pottsvillelibrary.org
X-WR-CALDESC:Events for Pottsville Free Public Library
REFRESH-INTERVAL;VALUE=DURATION:PT1H
X-Robots-Tag:noindex
X-PUBLISHED-TTL:PT1H
BEGIN:VTIMEZONE
TZID:UTC
BEGIN:STANDARD
TZOFFSETFROM:+0000
TZOFFSETTO:+0000
TZNAME:UTC
DTSTART:20240101T000000
END:STANDARD
END:VTIMEZONE
BEGIN:VEVENT
DTSTART;TZID=UTC:20250201T120000
DTEND;TZID=UTC:20250201T160000
DTSTAMP:20260424T221251
CREATED:20250106T204924Z
LAST-MODIFIED:20250106T204924Z
UID:2933-1738411200-1738425600@www.pottsvillelibrary.org
SUMMARY:Take Your Child to the Library Day
DESCRIPTION:Join in on Take Your Child to the Library Day at the Pottsville Free Public Library. Starting at noon various rec room activities will be available in the basement. At 1:00 pm there will be a Storytime\, recommended for children 1-5\, and at 2:30pm there will be an escape room for ages 6-12.
URL:https://www.pottsvillelibrary.org/event/take-your-child-to-the-library-day/
LOCATION:Pottsville Library\, 215 W Market St\, Pottsville\, 17901\, United States
ATTACH;FMTTYPE=image/jpeg:https://www.pottsvillelibrary.org/wp-content/uploads/2025/01/Take_Your_Child_to_the_Library_Poster.jpg
ORGANIZER;CN="PFPL":MAILTO:potpublib@pottsvillelibrary.org
END:VEVENT
END:VCALENDAR