BEGIN:VCALENDAR
VERSION:2.0
PRODID:-//Pottsville Free Public Library - ECPv6.15.13//NONSGML v1.0//EN
CALSCALE:GREGORIAN
METHOD:PUBLISH
X-WR-CALNAME:Pottsville Free Public Library
X-ORIGINAL-URL:https://www.pottsvillelibrary.org
X-WR-CALDESC:Events for Pottsville Free Public Library
REFRESH-INTERVAL;VALUE=DURATION:PT1H
X-Robots-Tag:noindex
X-PUBLISHED-TTL:PT1H
BEGIN:VTIMEZONE
TZID:UTC
BEGIN:STANDARD
TZOFFSETFROM:+0000
TZOFFSETTO:+0000
TZNAME:UTC
DTSTART:20230101T000000
END:STANDARD
END:VTIMEZONE
BEGIN:VEVENT
DTSTART;TZID=UTC:20241219T173000
DTEND;TZID=UTC:20241219T183000
DTSTAMP:20260425T015025
CREATED:20241209T200929Z
LAST-MODIFIED:20241209T200929Z
UID:2753-1734629400-1734633000@www.pottsvillelibrary.org
SUMMARY:Teen Book Club
DESCRIPTION:Our continuing teen book club meets on the 19th of December\, due to the Christmas holiday\, and begins at 5:30 pm\, we only just started. If you want to join in and need a copy of the book come to the youth services desk at the Pottsville Free Public Library and register for the book club.
URL:https://www.pottsvillelibrary.org/event/teen-book-club-3/
LOCATION:Pottsville Library\, 215 W Market St\, Pottsville\, 17901\, United States
ATTACH;FMTTYPE=image/jpeg:https://www.pottsvillelibrary.org/wp-content/uploads/2024/12/TeenBookClubGeneral.jpg
ORGANIZER;CN="PFPL":MAILTO:potpublib@pottsvillelibrary.org
END:VEVENT
END:VCALENDAR