BEGIN:VCALENDAR
VERSION:2.0
PRODID:-//Pottsville Free Public Library - ECPv6.15.13//NONSGML v1.0//EN
CALSCALE:GREGORIAN
METHOD:PUBLISH
X-WR-CALNAME:Pottsville Free Public Library
X-ORIGINAL-URL:https://www.pottsvillelibrary.org
X-WR-CALDESC:Events for Pottsville Free Public Library
REFRESH-INTERVAL;VALUE=DURATION:PT1H
X-Robots-Tag:noindex
X-PUBLISHED-TTL:PT1H
BEGIN:VTIMEZONE
TZID:UTC
BEGIN:STANDARD
TZOFFSETFROM:+0000
TZOFFSETTO:+0000
TZNAME:UTC
DTSTART:20230101T000000
END:STANDARD
END:VTIMEZONE
BEGIN:VEVENT
DTSTART;TZID=UTC:20241210T173000
DTEND;TZID=UTC:20241210T190000
DTSTAMP:20260425T015025
CREATED:20240828T201355Z
LAST-MODIFIED:20240828T201355Z
UID:2435-1733851800-1733857200@www.pottsvillelibrary.org
SUMMARY:Marble Run Mania
DESCRIPTION:Roll out to join us on Tuesday\, Dec. 10th at 5:30 for our marble run mania. Build marble runs with the sets here at the library\, then race marbles to see which one finishes first. Ideal for ages 5-11 and their families. Email us at potchild@pottsvillelibrary.org. to register.
URL:https://www.pottsvillelibrary.org/event/marble-run-mania/
LOCATION:Pottsville Library\, 215 W Market St\, Pottsville\, 17901\, United States
ATTACH;FMTTYPE=image/jpeg:https://www.pottsvillelibrary.org/wp-content/uploads/2024/08/Marble_Run_Mania_20241210.jpg
ORGANIZER;CN="PFPL":MAILTO:potpublib@pottsvillelibrary.org
END:VEVENT
END:VCALENDAR