BEGIN:VCALENDAR
VERSION:2.0
PRODID:-//Pottsville Free Public Library - ECPv6.15.13//NONSGML v1.0//EN
CALSCALE:GREGORIAN
METHOD:PUBLISH
X-WR-CALNAME:Pottsville Free Public Library
X-ORIGINAL-URL:https://www.pottsvillelibrary.org
X-WR-CALDESC:Events for Pottsville Free Public Library
REFRESH-INTERVAL;VALUE=DURATION:PT1H
X-Robots-Tag:noindex
X-PUBLISHED-TTL:PT1H
BEGIN:VTIMEZONE
TZID:UTC
BEGIN:STANDARD
TZOFFSETFROM:+0000
TZOFFSETTO:+0000
TZNAME:UTC
DTSTART:20230101T000000
END:STANDARD
END:VTIMEZONE
BEGIN:VEVENT
DTSTART;TZID=UTC:20240817T103000
DTEND;TZID=UTC:20240817T113000
DTSTAMP:20260425T140557
CREATED:20240506T155157Z
LAST-MODIFIED:20240506T155157Z
UID:2162-1723890600-1723894200@www.pottsvillelibrary.org
SUMMARY:Dance Party Storytime
DESCRIPTION:Join us for a special Dance Party Saturday Storytime on August 17th at 10:30AM.  Storytime is recommended for children up to 5\, however older siblings are always welcome.  Email with names and ages of children attending: potpublib@pottsvillelibrary.org
URL:https://www.pottsvillelibrary.org/event/dance-party-storytime/
LOCATION:Pottsville Library\, 215 W Market St\, Pottsville\, 17901\, United States
ATTACH;FMTTYPE=image/jpeg:https://www.pottsvillelibrary.org/wp-content/uploads/2024/05/Sance-Party-ST.jpg
ORGANIZER;CN="PFPL":MAILTO:potpublib@pottsvillelibrary.org
END:VEVENT
END:VCALENDAR