BEGIN:VCALENDAR
VERSION:2.0
PRODID:-//Pottsville Free Public Library - ECPv6.15.13//NONSGML v1.0//EN
CALSCALE:GREGORIAN
METHOD:PUBLISH
X-ORIGINAL-URL:https://www.pottsvillelibrary.org
X-WR-CALDESC:Events for Pottsville Free Public Library
REFRESH-INTERVAL;VALUE=DURATION:PT1H
X-Robots-Tag:noindex
X-PUBLISHED-TTL:PT1H
BEGIN:VTIMEZONE
TZID:UTC
BEGIN:STANDARD
TZOFFSETFROM:+0000
TZOFFSETTO:+0000
TZNAME:UTC
DTSTART:20230101T000000
END:STANDARD
END:VTIMEZONE
BEGIN:VEVENT
DTSTART;TZID=UTC:20240816T110000
DTEND;TZID=UTC:20240816T150000
DTSTAMP:20260425T104553
CREATED:20240422T141143Z
LAST-MODIFIED:20240422T141143Z
UID:2017-1723806000-1723820400@www.pottsvillelibrary.org
SUMMARY:Funday Friday!
DESCRIPTION:Stop by the Library for Funday Friday! We will have games and toys set up inside the Library\, and outside on 3rd & Market Streets\, weather permitting. Free ice cream & refreshments for children. Refreshments are sponsored by the Friends of the Pottsville Library. Games and refreshments will be available from 11-3.
URL:https://www.pottsvillelibrary.org/event/funday-friday-3/
LOCATION:Pottsville Library\, 215 W Market St\, Pottsville\, 17901\, United States
ATTACH;FMTTYPE=image/jpeg:https://www.pottsvillelibrary.org/wp-content/uploads/2024/04/Funday-Open-House-Flyer-Pic.jpg
ORGANIZER;CN="PFPL":MAILTO:potpublib@pottsvillelibrary.org
END:VEVENT
END:VCALENDAR