BEGIN:VCALENDAR
VERSION:2.0
PRODID:-//Pottsville Free Public Library - ECPv6.15.13//NONSGML v1.0//EN
CALSCALE:GREGORIAN
METHOD:PUBLISH
X-WR-CALNAME:Pottsville Free Public Library
X-ORIGINAL-URL:https://www.pottsvillelibrary.org
X-WR-CALDESC:Events for Pottsville Free Public Library
REFRESH-INTERVAL;VALUE=DURATION:PT1H
X-Robots-Tag:noindex
X-PUBLISHED-TTL:PT1H
BEGIN:VTIMEZONE
TZID:UTC
BEGIN:STANDARD
TZOFFSETFROM:+0000
TZOFFSETTO:+0000
TZNAME:UTC
DTSTART:20230101T000000
END:STANDARD
END:VTIMEZONE
BEGIN:VEVENT
DTSTART;TZID=UTC:20240807T100000
DTEND;TZID=UTC:20240807T110000
DTSTAMP:20260425T140558
CREATED:20240604T152723Z
LAST-MODIFIED:20240604T152723Z
UID:2285-1723024800-1723028400@www.pottsvillelibrary.org
SUMMARY:Click\, Tap...Cool! Basic Computer Skills for Kids Ages 5-10
DESCRIPTION:Kids ages 5-10 can brush up on their computer mouse and typing skills on a computer\, and learn some of the basics of using Microsoft Word. This free class has three sessions – July 10\, July 24\, and August 7 – from 10 AM to 11 AM. Each session will build on the previous one\, and kids who sign up are expected to attend all three. Class size is limited to 6 kids so advance registration is required. Email potpublib@pottsvillelibrary.org or call 570-622-8880 with the name and age of the child who will be attending.
URL:https://www.pottsvillelibrary.org/event/click-tap-cool-basic-computer-skills-for-kids-ages-5-10-3/
LOCATION:Pottsville Library\, 215 W Market St\, Pottsville\, 17901\, United States
ORGANIZER;CN="PFPL":MAILTO:potpublib@pottsvillelibrary.org
END:VEVENT
BEGIN:VEVENT
DTSTART;TZID=UTC:20240807T110000
DTEND;TZID=UTC:20240807T120000
DTSTAMP:20260425T140558
CREATED:20240531T181614Z
LAST-MODIFIED:20240531T181614Z
UID:2258-1723028400-1723032000@www.pottsvillelibrary.org
SUMMARY:Kids Craft Hour--Fuse Bead Crafts
DESCRIPTION:Wednesday craft hour is recommended for ages 12 & under.  All supplies included.
URL:https://www.pottsvillelibrary.org/event/kids-craft-hour-fuse-bead-crafts/
LOCATION:Pottsville Library\, 215 W Market St\, Pottsville\, 17901\, United States
ATTACH;FMTTYPE=image/jpeg:https://www.pottsvillelibrary.org/wp-content/uploads/2024/05/fuse-beads-1.jpg
ORGANIZER;CN="PFPL":MAILTO:potpublib@pottsvillelibrary.org
END:VEVENT
END:VCALENDAR