BEGIN:VCALENDAR
VERSION:2.0
PRODID:-//Pottsville Free Public Library - ECPv6.15.13//NONSGML v1.0//EN
CALSCALE:GREGORIAN
METHOD:PUBLISH
X-WR-CALNAME:Pottsville Free Public Library
X-ORIGINAL-URL:https://www.pottsvillelibrary.org
X-WR-CALDESC:Events for Pottsville Free Public Library
REFRESH-INTERVAL;VALUE=DURATION:PT1H
X-Robots-Tag:noindex
X-PUBLISHED-TTL:PT1H
BEGIN:VTIMEZONE
TZID:UTC
BEGIN:STANDARD
TZOFFSETFROM:+0000
TZOFFSETTO:+0000
TZNAME:UTC
DTSTART:20230101T000000
END:STANDARD
END:VTIMEZONE
BEGIN:VEVENT
DTSTART;TZID=UTC:20240722T103000
DTEND;TZID=UTC:20240722T113000
DTSTAMP:20260425T154044
CREATED:20240430T155702Z
LAST-MODIFIED:20240430T155702Z
UID:2105-1721644200-1721647800@www.pottsvillelibrary.org
SUMMARY:Storytime
DESCRIPTION:Join us on Monday mornings at 10:30 for Storytime! Recommended for children up to 5 years & their caregivers. Older siblings are always welcome! Summer session runs from Monday\, June 17th to Monday\, August 5th. Email potpublib@pottsvillelibrary.org with names and ages of children attending to register.
URL:https://www.pottsvillelibrary.org/event/storytime-11/
LOCATION:Pottsville Library\, 215 W Market St\, Pottsville\, 17901\, United States
ATTACH;FMTTYPE=image/jpeg:https://www.pottsvillelibrary.org/wp-content/uploads/2024/04/Summer-Storytime-24.jpg
ORGANIZER;CN="PFPL":MAILTO:potpublib@pottsvillelibrary.org
END:VEVENT
END:VCALENDAR