BEGIN:VCALENDAR
VERSION:2.0
PRODID:-//Pottsville Free Public Library - ECPv6.15.13//NONSGML v1.0//EN
CALSCALE:GREGORIAN
METHOD:PUBLISH
X-ORIGINAL-URL:https://www.pottsvillelibrary.org
X-WR-CALDESC:Events for Pottsville Free Public Library
REFRESH-INTERVAL;VALUE=DURATION:PT1H
X-Robots-Tag:noindex
X-PUBLISHED-TTL:PT1H
BEGIN:VTIMEZONE
TZID:UTC
BEGIN:STANDARD
TZOFFSETFROM:+0000
TZOFFSETTO:+0000
TZNAME:UTC
DTSTART:20230101T000000
END:STANDARD
END:VTIMEZONE
BEGIN:VEVENT
DTSTART;TZID=UTC:20240720T103000
DTEND;TZID=UTC:20240720T113000
DTSTAMP:20260425T170704
CREATED:20240506T153704Z
LAST-MODIFIED:20240506T153704Z
UID:2158-1721471400-1721475000@www.pottsvillelibrary.org
SUMMARY:Ice Cream Day Storytime
DESCRIPTION:Join us for a very special Saturday Storytime to celebrate Ice Cream Day! There will be free ice cream available for kids during Storytime on Saturday\, July 20th at 10:30AM. Registration for this storytime is required so we have enough ice cream for everyone! Please email potpublib@pottsvillelibrary.org with the names and ages of children attending. 
URL:https://www.pottsvillelibrary.org/event/ice-cream-day-storytime/
LOCATION:Pottsville Library\, 215 W Market St\, Pottsville\, 17901\, United States
ATTACH;FMTTYPE=image/jpeg:https://www.pottsvillelibrary.org/wp-content/uploads/2024/05/Ice-Cream-ST.jpg
ORGANIZER;CN="PFPL":MAILTO:potpublib@pottsvillelibrary.org
END:VEVENT
BEGIN:VEVENT
DTSTART;TZID=UTC:20240720T130000
DTEND;TZID=UTC:20240720T150000
DTSTAMP:20260425T170704
CREATED:20240523T205059Z
LAST-MODIFIED:20240523T205059Z
UID:2199-1721480400-1721487600@www.pottsvillelibrary.org
SUMMARY:Plant & Sip
DESCRIPTION:Let’s do some summer succulent planting while sipping the beverage of your choice! This event is BYOB! The Plant & Sip will be held on Saturday\, July 20th at 1pm. $25 per person. Prepaid registration is due by July 1st. Succulents\, planter\, soil\, and planting tools are provided. Wear old clothes!
URL:https://www.pottsvillelibrary.org/event/plant-sip-2/
LOCATION:Pottsville Library\, 215 W Market St\, Pottsville\, 17901\, United States
ATTACH;FMTTYPE=image/jpeg:https://www.pottsvillelibrary.org/wp-content/uploads/2024/05/Plant-Sip.jpg
ORGANIZER;CN="PFPL":MAILTO:potpublib@pottsvillelibrary.org
END:VEVENT
END:VCALENDAR