BEGIN:VCALENDAR
VERSION:2.0
PRODID:-//Pottsville Free Public Library - ECPv6.15.13//NONSGML v1.0//EN
CALSCALE:GREGORIAN
METHOD:PUBLISH
X-WR-CALNAME:Pottsville Free Public Library
X-ORIGINAL-URL:https://www.pottsvillelibrary.org
X-WR-CALDESC:Events for Pottsville Free Public Library
REFRESH-INTERVAL;VALUE=DURATION:PT1H
X-Robots-Tag:noindex
X-PUBLISHED-TTL:PT1H
BEGIN:VTIMEZONE
TZID:UTC
BEGIN:STANDARD
TZOFFSETFROM:+0000
TZOFFSETTO:+0000
TZNAME:UTC
DTSTART:20230101T000000
END:STANDARD
END:VTIMEZONE
BEGIN:VEVENT
DTSTART;TZID=UTC:20240716T173000
DTEND;TZID=UTC:20240716T190000
DTSTAMP:20260425T154042
CREATED:20240506T201122Z
LAST-MODIFIED:20240506T201122Z
UID:2166-1721151000-1721156400@www.pottsvillelibrary.org
SUMMARY:Dinorific Tales and Fascinating Facts with Mr. Mike
DESCRIPTION:Join us on Tuesday\, July 16th at 5:30 for a Dino Chat with Mr. Mike the Dinosaur Guy! Please email to register with the amount of adults/children attending: potpublib@pottsvillelibrary.org
URL:https://www.pottsvillelibrary.org/event/dinorific-tales-and-fascinating-facts-with-mr-mike/
LOCATION:Pottsville Library\, 215 W Market St\, Pottsville\, 17901\, United States
ATTACH;FMTTYPE=image/jpeg:https://www.pottsvillelibrary.org/wp-content/uploads/2024/05/Dinorific-Tales.jpg
ORGANIZER;CN="PFPL":MAILTO:potpublib@pottsvillelibrary.org
END:VEVENT
END:VCALENDAR