BEGIN:VCALENDAR
VERSION:2.0
PRODID:-//Pottsville Free Public Library - ECPv6.15.13//NONSGML v1.0//EN
CALSCALE:GREGORIAN
METHOD:PUBLISH
X-WR-CALNAME:Pottsville Free Public Library
X-ORIGINAL-URL:https://www.pottsvillelibrary.org
X-WR-CALDESC:Events for Pottsville Free Public Library
REFRESH-INTERVAL;VALUE=DURATION:PT1H
X-Robots-Tag:noindex
X-PUBLISHED-TTL:PT1H
BEGIN:VTIMEZONE
TZID:UTC
BEGIN:STANDARD
TZOFFSETFROM:+0000
TZOFFSETTO:+0000
TZNAME:UTC
DTSTART:20230101T000000
END:STANDARD
END:VTIMEZONE
BEGIN:VEVENT
DTSTART;TZID=UTC:20240702T173000
DTEND;TZID=UTC:20240702T190000
DTSTAMP:20260425T154200
CREATED:20240321T185450Z
LAST-MODIFIED:20240321T185450Z
UID:1926-1719941400-1719946800@www.pottsvillelibrary.org
SUMMARY:Family Book Bingo
DESCRIPTION:Join us for another night of Family Book Bingo! There will be prizes appropriate for all ages.  FREE to play! Remember to bring a bag for your winnings! Tuesday\, July 2nd at 5:30 PM.  Please register by emailing potpublib@pottsvillelibrary.org.
URL:https://www.pottsvillelibrary.org/event/family-book-bingo-3/
LOCATION:Pottsville Library\, 215 W Market St\, Pottsville\, 17901\, United States
ATTACH;FMTTYPE=image/jpeg:https://www.pottsvillelibrary.org/wp-content/uploads/2024/03/Family-Book-Bingo-July-24.jpg
ORGANIZER;CN="PFPL":MAILTO:potpublib@pottsvillelibrary.org
END:VEVENT
END:VCALENDAR