BEGIN:VCALENDAR
VERSION:2.0
PRODID:-//Pottsville Free Public Library - ECPv6.15.13//NONSGML v1.0//EN
CALSCALE:GREGORIAN
METHOD:PUBLISH
X-ORIGINAL-URL:https://www.pottsvillelibrary.org
X-WR-CALDESC:Events for Pottsville Free Public Library
REFRESH-INTERVAL;VALUE=DURATION:PT1H
X-Robots-Tag:noindex
X-PUBLISHED-TTL:PT1H
BEGIN:VTIMEZONE
TZID:UTC
BEGIN:STANDARD
TZOFFSETFROM:+0000
TZOFFSETTO:+0000
TZNAME:UTC
DTSTART:20230101T000000
END:STANDARD
END:VTIMEZONE
BEGIN:VEVENT
DTSTART;TZID=UTC:20240701T103000
DTEND;TZID=UTC:20240701T113000
DTSTAMP:20260425T140856
CREATED:20240430T155417Z
LAST-MODIFIED:20240430T155417Z
UID:2096-1719829800-1719833400@www.pottsvillelibrary.org
SUMMARY:Storytime
DESCRIPTION:Join us on Monday mornings at 10:30 for Storytime! Recommended for children up to 5 years & their caregivers. Older siblings are always welcome! Summer session runs from Monday\, June 17th to Monday\, August 5th. Email potpublib@pottsvillelibrary.org with names and ages of children attending to register.
URL:https://www.pottsvillelibrary.org/event/storytime-8/
LOCATION:Pottsville Library\, 215 W Market St\, Pottsville\, 17901\, United States
ATTACH;FMTTYPE=image/jpeg:https://www.pottsvillelibrary.org/wp-content/uploads/2024/04/Summer-Storytime-24.jpg
ORGANIZER;CN="PFPL":MAILTO:potpublib@pottsvillelibrary.org
END:VEVENT
BEGIN:VEVENT
DTSTART;TZID=UTC:20240701T120000
DTEND;TZID=UTC:20240701T140000
DTSTAMP:20260425T140856
CREATED:20240430T181127Z
LAST-MODIFIED:20240430T181127Z
UID:2117-1719835200-1719842400@www.pottsvillelibrary.org
SUMMARY:Used Book Sale
DESCRIPTION:Visit our monthly used book sale in the basement of the Library from 12-2 on Monday\, July 1st\, 2024. Thank you to the Friends of the Pottsville Free Public Library for hosting our used book sales!
URL:https://www.pottsvillelibrary.org/event/used-book-sale-8/
LOCATION:Library – Basement\, 215 W. Market St.\, Pottsville\, PA\, 17901\, United States
ATTACH;FMTTYPE=image/png:https://www.pottsvillelibrary.org/wp-content/uploads/2023/11/Book_Sale_Website_Banner.png
ORGANIZER;CN="PFPL":MAILTO:potpublib@pottsvillelibrary.org
END:VEVENT
END:VCALENDAR