BEGIN:VCALENDAR
VERSION:2.0
PRODID:-//Pottsville Free Public Library - ECPv6.15.13//NONSGML v1.0//EN
CALSCALE:GREGORIAN
METHOD:PUBLISH
X-ORIGINAL-URL:https://www.pottsvillelibrary.org
X-WR-CALDESC:Events for Pottsville Free Public Library
REFRESH-INTERVAL;VALUE=DURATION:PT1H
X-Robots-Tag:noindex
X-PUBLISHED-TTL:PT1H
BEGIN:VTIMEZONE
TZID:UTC
BEGIN:STANDARD
TZOFFSETFROM:+0000
TZOFFSETTO:+0000
TZNAME:UTC
DTSTART:20230101T000000
END:STANDARD
END:VTIMEZONE
BEGIN:VEVENT
DTSTART;TZID=UTC:20240625T173000
DTEND;TZID=UTC:20240625T190000
DTSTAMP:20260425T140637
CREATED:20240320T195331Z
LAST-MODIFIED:20240320T195331Z
UID:1919-1719336600-1719342000@www.pottsvillelibrary.org
SUMMARY:Live Wildlife Night with Red Creek Wildlife Center
DESCRIPTION:Visit the Library on Tuesday\, June 25th at 5:30 to see an amazing presentation by Red Creek Wildlife Center.  See and learn about live wildlife! Email to register: potpublib@pottsvillelibrary.org. This program is sponsored by the Friends of the Pottsville Free Public Library.
URL:https://www.pottsvillelibrary.org/event/live-wildlife-night-with-red-creek-wildlife-center-2/
LOCATION:Pottsville Library\, 215 W Market St\, Pottsville\, 17901\, United States
ATTACH;FMTTYPE=image/jpeg:https://www.pottsvillelibrary.org/wp-content/uploads/2024/03/Red-Creek-Wildlife.jpg
ORGANIZER;CN="PFPL":MAILTO:potpublib@pottsvillelibrary.org
END:VEVENT
END:VCALENDAR