BEGIN:VCALENDAR
VERSION:2.0
PRODID:-//Pottsville Free Public Library - ECPv6.15.13//NONSGML v1.0//EN
CALSCALE:GREGORIAN
METHOD:PUBLISH
X-WR-CALNAME:Pottsville Free Public Library
X-ORIGINAL-URL:https://www.pottsvillelibrary.org
X-WR-CALDESC:Events for Pottsville Free Public Library
REFRESH-INTERVAL;VALUE=DURATION:PT1H
X-Robots-Tag:noindex
X-PUBLISHED-TTL:PT1H
BEGIN:VTIMEZONE
TZID:UTC
BEGIN:STANDARD
TZOFFSETFROM:+0000
TZOFFSETTO:+0000
TZNAME:UTC
DTSTART:20230101T000000
END:STANDARD
END:VTIMEZONE
BEGIN:VEVENT
DTSTART;TZID=UTC:20240618T173000
DTEND;TZID=UTC:20240618T190000
DTSTAMP:20260425T140556
CREATED:20240320T182118Z
LAST-MODIFIED:20240320T182118Z
UID:1915-1718731800-1718737200@www.pottsvillelibrary.org
SUMMARY:A Night With PT Reptiles
DESCRIPTION:Join us for a meet and greet with some slithering guests! PT Reptiles will be back at the Pottsville Library on Tuesday\, June 18th at 5:30. Please email to register: potpublib@pottsvillelibrary.org.  This event is sponsored by the Friends of the Pottsville Free Public Library.
URL:https://www.pottsvillelibrary.org/event/a-night-with-pt-reptiles-2/
LOCATION:Pottsville Library\, 215 W Market St\, Pottsville\, 17901\, United States
ATTACH;FMTTYPE=image/jpeg:https://www.pottsvillelibrary.org/wp-content/uploads/2024/03/PT-Reptiles.jpg
ORGANIZER;CN="PFPL":MAILTO:potpublib@pottsvillelibrary.org
END:VEVENT
END:VCALENDAR