BEGIN:VCALENDAR
VERSION:2.0
PRODID:-//Pottsville Free Public Library - ECPv6.15.13//NONSGML v1.0//EN
CALSCALE:GREGORIAN
METHOD:PUBLISH
X-ORIGINAL-URL:https://www.pottsvillelibrary.org
X-WR-CALDESC:Events for Pottsville Free Public Library
REFRESH-INTERVAL;VALUE=DURATION:PT1H
X-Robots-Tag:noindex
X-PUBLISHED-TTL:PT1H
BEGIN:VTIMEZONE
TZID:UTC
BEGIN:STANDARD
TZOFFSETFROM:+0000
TZOFFSETTO:+0000
TZNAME:UTC
DTSTART:20230101T000000
END:STANDARD
END:VTIMEZONE
BEGIN:VEVENT
DTSTART;TZID=UTC:20240320T103000
DTEND;TZID=UTC:20240320T120000
DTSTAMP:20260425T234056
CREATED:20240320T140336Z
LAST-MODIFIED:20240320T140336Z
UID:1911-1710930600-1710936000@www.pottsvillelibrary.org
SUMMARY:Saturday Storytime: Mother's Day Tea Party
DESCRIPTION:Join us for another special Saturday Storytime to celebrate Mother’s Day! Kids 12 & under are invited to attend with their mom\, grandmother\, or their favorite caregiver for a story\, a craft and a tea party.  Please email with names and ages of children attending to potpublib@pottsvillelibrary.org.  Event starts at 10:30AM on Saturday\, May 11th.
URL:https://www.pottsvillelibrary.org/event/saturday-storytime-mothers-day-tea-party/
LOCATION:Pottsville Library\, 215 W Market St\, Pottsville\, 17901\, United States
ATTACH;FMTTYPE=image/jpeg:https://www.pottsvillelibrary.org/wp-content/uploads/2024/03/Mothers-Day-Tea-Party.jpg
ORGANIZER;CN="PFPL":MAILTO:potpublib@pottsvillelibrary.org
END:VEVENT
END:VCALENDAR